BEGIN:VCALENDAR
VERSION:2.0
PRODID:-//CAB Gallery and Studio - ECPv6.15.11//NONSGML v1.0//EN
CALSCALE:GREGORIAN
METHOD:PUBLISH
X-WR-CALNAME:CAB Gallery and Studio
X-ORIGINAL-URL:https://cabgalleryandstudio.com
X-WR-CALDESC:Events for CAB Gallery and Studio
REFRESH-INTERVAL;VALUE=DURATION:PT1H
X-Robots-Tag:noindex
X-PUBLISHED-TTL:PT1H
BEGIN:VTIMEZONE
TZID:UTC
BEGIN:STANDARD
TZOFFSETFROM:+0000
TZOFFSETTO:+0000
TZNAME:UTC
DTSTART:20250101T000000
END:STANDARD
END:VTIMEZONE
BEGIN:VEVENT
DTSTART;TZID=UTC:20260421T103000
DTEND;TZID=UTC:20260421T123000
DTSTAMP:20260421T094130
CREATED:20250121T223109Z
LAST-MODIFIED:20260224T204851Z
UID:8380-1776767400-1776774600@cabgalleryandstudio.com
SUMMARY:Ceramics: Hand-Building Flower Platters
DESCRIPTION:Celebrate Earth Day by creating beauty with our Flower Platters class! In this class\, participants will learn techniques to craft trays adorned with floral prints. Using wet clay and natural materials\, you’ll explore hand-building and printing methods that highlight the beauty of nature. No experience needed. \nThe class will begin at 10:30am\, but a 15-minute grace period will be allowed for anyone running late. After that\, doors will be closed. The class is nonrefundable.
URL:https://cabgalleryandstudio.com/class/earth-day-flower-printed-trays/
CATEGORIES:Classes
ATTACH;FMTTYPE=image/jpeg:https://cabgalleryandstudio.com/wp-content/uploads/2025/01/84.jpg
END:VEVENT
BEGIN:VEVENT
DTSTART;TZID=UTC:20260421T153000
DTEND;TZID=UTC:20260421T173000
DTSTAMP:20260421T094130
CREATED:20260402T183529Z
LAST-MODIFIED:20260402T184745Z
UID:10465-1776785400-1776792600@cabgalleryandstudio.com
SUMMARY:Ceramics: Hand-Building Flower Platters
DESCRIPTION:Celebrate Earth Day by creating beauty with our Flower Platters class! In this class\, participants will learn techniques to craft trays adorned with floral prints. Using wet clay and natural materials\, you’ll explore hand-building and printing methods that highlight the beauty of nature. No experience needed. \nThe class will begin at 3:30pm\, but a 15-minute grace period will be allowed for anyone running late. After that\, doors will be closed. The class is nonrefundable.
URL:https://cabgalleryandstudio.com/class/ceramics-flower-platters/
CATEGORIES:Classes
ATTACH;FMTTYPE=image/jpeg:https://cabgalleryandstudio.com/wp-content/uploads/2025/01/84.jpg
END:VEVENT
END:VCALENDAR